BEGIN:VCALENDAR
VERSION:2.0
PRODID:-//Fast North Corp//Race Roster
CALSCALE:GREGORIAN
BEGIN:VEVENT
UID:885360_4a07e2f6-194d-4282-ac57-e34c76f1a3e3_1776957401@raceroster.com
DTSTAMP:20260423T151641Z
SUMMARY:42nd Annual Healthy Human Race
DTSTART;TZID=America/Chicago:20260912T070000
DTEND;TZID=America/Chicago:20260912T100000
URL;VALUE=URI:https://healthyhumanrace.raceroster.com
 -human-race
DESCRIPTION:Event schedule\n\nSeptember 12 7:00 AM CDT - Half Marathon\; Ha
 lf Marathon Relay Start\nSeptember 12 7:15 AM CDT - 5k Start\n\nSee all ev
 ent details at https://healthyhumanrace.raceroster.com
 hy-human-race
LOCATION:Soldiers Field Veterans Memorial\, 7th Street Southwest\, Rocheste
 r\, MN\, United States
END:VEVENT
END:VCALENDAR
